BEGIN:VCALENDAR
VERSION:2.0
PRODID:SchoolNow
CALSCALE:GREGORIAN
BEGIN:VEVENT
UID:b00f0a16-8d9b-11f0-910b-0a58a9feac02
DTSTAMP:20251216T154556Z
SUMMARY:AoB Board Meeting
URL;VALUE=URI:https://www.lpssonline.com/schools/acadiana/calendar/8600865/
 aob-board-meeting
DTSTART:20251217T180000Z
DTEND:20251217T190000Z
END:VEVENT
END:VCALENDAR
