BEGIN:VCALENDAR
VERSION:2.0
PRODID:SchoolNow
CALSCALE:GREGORIAN
BEGIN:VEVENT
UID:b00f0c00-8d9b-11f0-b4e2-0a58a9feac02
DTSTAMP:20251216T154557Z
SUMMARY:AoB Board Meeting
URL;VALUE=URI:https://www.lpssonline.com/schools/acadiana/calendar/8600867/
 aob-board-meeting
DTSTART:20260225T180000Z
DTEND:20260225T190000Z
END:VEVENT
END:VCALENDAR
