BEGIN:VCALENDAR
VERSION:2.0
PRODID:SchoolNow
CALSCALE:GREGORIAN
BEGIN:VEVENT
UID:b00f0cf0-8d9b-11f0-8be8-0a58a9feac02
DTSTAMP:20251216T154557Z
SUMMARY:AoB Board Meeting
URL;VALUE=URI:https://www.lpssonline.com/schools/acadiana/calendar/8600868/
 aob-board-meeting
DTSTART:20260318T170000Z
DTEND:20260318T180000Z
END:VEVENT
END:VCALENDAR
