BEGIN:VCALENDAR
VERSION:2.0
PRODID:SchoolNow
CALSCALE:GREGORIAN
BEGIN:VEVENT
UID:abd6e0e4-8dce-11f0-a577-0a58a9feac02
DTSTAMP:20251216T154557Z
SUMMARY:FFA Parent Night (Himel)
URL;VALUE=URI:https://www.lpssonline.com/schools/acadiana/calendar/8602550/
 ffa-parent-night-himel
DTSTART:20250930T230000Z
DTEND:20251001T000000Z
END:VEVENT
END:VCALENDAR
