BEGIN:VCALENDAR
VERSION:2.0
PRODID:SchoolNow
CALSCALE:GREGORIAN
BEGIN:VEVENT
UID:a747ce6e-8e67-11f0-94f8-0a58a9feac02
DTSTAMP:20251216T154556Z
SUMMARY:NHS Meeting
LOCATION:Cafeteria
URL;VALUE=URI:https://www.lpssonline.com/schools/acadiana/calendar/8605557/
 nhs-meeting
DTSTART:20250916T194500Z
DTEND:20250916T204500Z
END:VEVENT
END:VCALENDAR
