BEGIN:VCALENDAR
VERSION:2.0
PRODID:SchoolNow
CALSCALE:GREGORIAN
BEGIN:VEVENT
UID:a23eb38c-8e9a-11f0-8030-0affcfc7b053
DTSTAMP:20251216T154556Z
SUMMARY:Volleyball - vs Opelousas High (Sr. Night) (Himel)
LOCATION:Senior Night
URL;VALUE=URI:https://www.lpssonline.com/schools/acadiana/calendar/8606607/
 volleyball-vs-opelousas-high-sr-night-himel
DTSTART:20251020T210000Z
DTEND:20251021T000000Z
END:VEVENT
END:VCALENDAR
