BEGIN:VCALENDAR
VERSION:2.0
PRODID:SchoolNow
CALSCALE:GREGORIAN
BEGIN:VEVENT
UID:9d795dae-8f33-11f0-b00d-0eb04548264b
DTSTAMP:20251216T154556Z
SUMMARY:French Club Meeting
URL;VALUE=URI:https://www.lpssonline.com/schools/acadiana/calendar/8609352/
 french-club-meeting
DTSTART:20250918T194500Z
DTEND:20250918T203000Z
END:VEVENT
END:VCALENDAR
