BEGIN:VCALENDAR
VERSION:2.0
PRODID:SchoolNow
CALSCALE:GREGORIAN
BEGIN:VEVENT
UID:6fca94f2-9296-11f0-b3f3-0eed6397063b
DTSTAMP:20251216T154556Z
SUMMARY:BETA Convention
URL;VALUE=URI:https://www.lpssonline.com/schools/acadiana/calendar/8626502/
 beta-convention
DTSTART;VALUE=DATE:20260211
DTEND;VALUE=DATE:20260214
END:VEVENT
END:VCALENDAR
