BEGIN:VCALENDAR
VERSION:2.0
PRODID:SchoolNow
CALSCALE:GREGORIAN
BEGIN:VEVENT
UID:6fca98bc-9296-11f0-95e0-0eed6397063b
DTSTAMP:20251216T154557Z
SUMMARY:BETA Meeting in the Cafeteria
URL;VALUE=URI:https://www.lpssonline.com/schools/acadiana/calendar/8626503/
 beta-meeting-in-the-cafeteria
DTSTART:20250924T194000Z
DTEND:20250924T203000Z
END:VEVENT
END:VCALENDAR
