BEGIN:VCALENDAR
VERSION:2.0
PRODID:SchoolNow
CALSCALE:GREGORIAN
BEGIN:VEVENT
UID:66d7bbe6-9362-11f0-91a1-0a58a9feac02
DTSTAMP:20251216T154557Z
SUMMARY:Choir and Band All State Auditions
URL;VALUE=URI:https://www.lpssonline.com/schools/acadiana/calendar/8630526/
 choir-and-band-all-state-auditions
DTSTART:20250917T200000Z
DTEND:20250917T230000Z
END:VEVENT
END:VCALENDAR
