BEGIN:VCALENDAR
VERSION:2.0
PRODID:SchoolNow
CALSCALE:GREGORIAN
BEGIN:VEVENT
UID:66d7c0e6-9362-11f0-9619-0a58a9feac02
DTSTAMP:20251216T154556Z
SUMMARY:Choir and Band All State Auditions
URL;VALUE=URI:https://www.lpssonline.com/schools/acadiana/calendar/8630528/
 choir-and-band-all-state-auditions
DTSTART:20250927T120000Z
DTEND:20250927T170000Z
END:VEVENT
END:VCALENDAR
