BEGIN:VCALENDAR
VERSION:2.0
PRODID:SchoolNow
CALSCALE:GREGORIAN
BEGIN:VEVENT
UID:66d7c276-9362-11f0-b099-0a58a9feac02
DTSTAMP:20251216T154557Z
SUMMARY:District Band Festival (all admin)
URL;VALUE=URI:https://www.lpssonline.com/schools/acadiana/calendar/8630529/
 district-band-festival-all-admin
DTSTART:20251021T200000Z
DTEND:20251022T030000Z
END:VEVENT
END:VCALENDAR
