BEGIN:VCALENDAR
VERSION:2.0
PRODID:SchoolNow
CALSCALE:GREGORIAN
BEGIN:VEVENT
UID:49c2e4da-9593-11f0-ab89-0affc363eacf
DTSTAMP:20251216T154556Z
SUMMARY:AoB Assembly 2nd Hour
LOCATION:Cafeteria
URL;VALUE=URI:https://www.lpssonline.com/schools/acadiana/calendar/8644145/
 aob-assembly-2nd-hour
DTSTART:20251030T130000Z
DTEND:20251030T133000Z
END:VEVENT
END:VCALENDAR
