BEGIN:VCALENDAR
VERSION:2.0
PRODID:SchoolNow
CALSCALE:GREGORIAN
BEGIN:VEVENT
UID:49c2e89a-9593-11f0-aecf-0affc363eacf
DTSTAMP:20251216T154557Z
SUMMARY:AoB Spring Coke Fundraiser
URL;VALUE=URI:https://www.lpssonline.com/schools/acadiana/calendar/8644146/
 aob-spring-coke-fundraiser
DTSTART;VALUE=DATE:20260209
DTEND;VALUE=DATE:20260307
END:VEVENT
END:VCALENDAR
