BEGIN:VCALENDAR
VERSION:2.0
PRODID:SchoolNow
CALSCALE:GREGORIAN
BEGIN:VEVENT
UID:49c2e9d0-9593-11f0-9608-0affc363eacf
DTSTAMP:20251216T154557Z
SUMMARY:AoB Spring Coke Pickup Day
URL;VALUE=URI:https://www.lpssonline.com/schools/acadiana/calendar/8644147/
 aob-spring-coke-pickup-day
DTSTART;VALUE=DATE:20260311
DTEND;VALUE=DATE:20260312
END:VEVENT
END:VCALENDAR
