BEGIN:VCALENDAR
VERSION:2.0
PRODID:SchoolNow
CALSCALE:GREGORIAN
BEGIN:VEVENT
UID:49c2ebce-9593-11f0-aa25-0affc363eacf
DTSTAMP:20251216T154557Z
SUMMARY:Homecoming Court Black Dress Dinner @ Fezzos (Himel)
URL;VALUE=URI:https://www.lpssonline.com/schools/acadiana/calendar/8644149/
 homecoming-court-black-dress-dinner-fezzos-himel
DTSTART:20251006T230000Z
DTEND:20251007T010000Z
END:VEVENT
END:VCALENDAR
