BEGIN:VCALENDAR
VERSION:2.0
PRODID:SchoolNow
CALSCALE:GREGORIAN
BEGIN:VEVENT
UID:49c2ecd2-9593-11f0-9e11-0affc363eacf
DTSTAMP:20251216T154556Z
SUMMARY:Dance Team Practice
LOCATION:Cafeteria
URL;VALUE=URI:https://www.lpssonline.com/schools/acadiana/calendar/8644150/
 dance-team-practice
DTSTART:20250922T194500Z
DTEND:20250922T220000Z
END:VEVENT
END:VCALENDAR
