BEGIN:VCALENDAR
VERSION:2.0
PRODID:SchoolNow
CALSCALE:GREGORIAN
BEGIN:VEVENT
UID:49c2ef70-9593-11f0-a0a4-0affc363eacf
DTSTAMP:20251216T154557Z
SUMMARY:Dance Team Practice
LOCATION:Cafeteria
URL;VALUE=URI:https://www.lpssonline.com/schools/acadiana/calendar/8644153/
 dance-team-practice
DTSTART:20251001T194500Z
DTEND:20251001T220000Z
END:VEVENT
END:VCALENDAR
