BEGIN:VCALENDAR
VERSION:2.0
PRODID:SchoolNow
CALSCALE:GREGORIAN
BEGIN:VEVENT
UID:49c2f04c-9593-11f0-90c7-0affc363eacf
DTSTAMP:20251216T154557Z
SUMMARY:Lunch Pep Rally
LOCATION:Commons Area
URL;VALUE=URI:https://www.lpssonline.com/schools/acadiana/calendar/8644154/
 lunch-pep-rally
DTSTART:20250919T152500Z
DTEND:20250919T155500Z
END:VEVENT
END:VCALENDAR
