BEGIN:VCALENDAR
VERSION:2.0
PRODID:SchoolNow
CALSCALE:GREGORIAN
BEGIN:VEVENT
UID:49c2f128-9593-11f0-aec4-0affc363eacf
DTSTAMP:20251216T154557Z
SUMMARY:Lunch Pep Rally
LOCATION:Commons Area
URL;VALUE=URI:https://www.lpssonline.com/schools/acadiana/calendar/8644155/
 lunch-pep-rally
DTSTART:20250919T162000Z
DTEND:20250919T165000Z
END:VEVENT
END:VCALENDAR
