BEGIN:VCALENDAR
VERSION:2.0
PRODID:SchoolNow
CALSCALE:GREGORIAN
BEGIN:VEVENT
UID:49c2f204-9593-11f0-a781-0affc363eacf
DTSTAMP:20251216T154557Z
SUMMARY:Lunch Pep Rally
LOCATION:Commons Area
URL;VALUE=URI:https://www.lpssonline.com/schools/acadiana/calendar/8644156/
 lunch-pep-rally
DTSTART:20251107T162500Z
DTEND:20251107T165500Z
END:VEVENT
END:VCALENDAR
