BEGIN:VCALENDAR
VERSION:2.0
PRODID:SchoolNow
CALSCALE:GREGORIAN
BEGIN:VEVENT
UID:49c2f2d6-9593-11f0-bb1d-0affc363eacf
DTSTAMP:20251216T154557Z
SUMMARY:Lunch Pep Rally
LOCATION:Commons Area
URL;VALUE=URI:https://www.lpssonline.com/schools/acadiana/calendar/8644157/
 lunch-pep-rally
DTSTART:20251107T172000Z
DTEND:20251107T175000Z
END:VEVENT
END:VCALENDAR
