BEGIN:VCALENDAR
VERSION:2.0
PRODID:SchoolNow
CALSCALE:GREGORIAN
BEGIN:VEVENT
UID:49c2f3a8-9593-11f0-95d8-0affc363eacf
DTSTAMP:20251216T154557Z
SUMMARY:Volleyball (H) vs St. Martinville
LOCATION:JV 5:30/ Var 6:30
URL;VALUE=URI:https://www.lpssonline.com/schools/acadiana/calendar/8644158/
 volleyball-h-vs-st-martinville
DTSTART:20250923T223000Z
DTEND:20250924T013000Z
END:VEVENT
END:VCALENDAR
