BEGIN:VCALENDAR
VERSION:2.0
PRODID:SchoolNow
CALSCALE:GREGORIAN
BEGIN:VEVENT
UID:49c2f484-9593-11f0-9064-0affc363eacf
DTSTAMP:20251216T154556Z
SUMMARY:Volleyball @ ARCA
URL;VALUE=URI:https://www.lpssonline.com/schools/acadiana/calendar/8644159/
 volleyball-arca
DTSTART:20250925T210000Z
DTEND:20250926T000000Z
END:VEVENT
END:VCALENDAR
