BEGIN:VCALENDAR
VERSION:2.0
PRODID:SchoolNow
CALSCALE:GREGORIAN
BEGIN:VEVENT
UID:49c2f556-9593-11f0-a38c-0affc363eacf
DTSTAMP:20251216T154557Z
SUMMARY:Volleyball @ Church Point
URL;VALUE=URI:https://www.lpssonline.com/schools/acadiana/calendar/8644160/
 volleyball-church-point
DTSTART:20251001T210000Z
DTEND:20251002T010000Z
END:VEVENT
END:VCALENDAR
