BEGIN:VCALENDAR
VERSION:2.0
PRODID:SchoolNow
CALSCALE:GREGORIAN
BEGIN:VEVENT
UID:49c2f628-9593-11f0-b2d0-0affc363eacf
DTSTAMP:20251216T154557Z
SUMMARY:Volleyball (H) vs Rayne
URL;VALUE=URI:https://www.lpssonline.com/schools/acadiana/calendar/8644161/
 volleyball-h-vs-rayne
DTSTART:20251002T210000Z
DTEND:20251003T000000Z
END:VEVENT
END:VCALENDAR
