BEGIN:VCALENDAR
VERSION:2.0
PRODID:SchoolNow
CALSCALE:GREGORIAN
BEGIN:VEVENT
UID:49c2f6fa-9593-11f0-a9f1-0affc363eacf
DTSTAMP:20251216T154556Z
SUMMARY:Volleyball @ Barbe
URL;VALUE=URI:https://www.lpssonline.com/schools/acadiana/calendar/8644162/
 volleyball-barbe
DTSTART:20251007T220000Z
DTEND:20251008T010000Z
END:VEVENT
END:VCALENDAR
