BEGIN:VCALENDAR
VERSION:2.0
PRODID:SchoolNow
CALSCALE:GREGORIAN
BEGIN:VEVENT
UID:49c2f7cc-9593-11f0-a387-0affc363eacf
DTSTAMP:20251216T154557Z
SUMMARY:Volleyball (H) vs Southside - McQuain
LOCATION:Varsity Only
URL;VALUE=URI:https://www.lpssonline.com/schools/acadiana/calendar/8644163/
 volleyball-h-vs-southside-mcquain
DTSTART:20251008T213000Z
DTEND:20251008T233000Z
END:VEVENT
END:VCALENDAR
