BEGIN:VCALENDAR
VERSION:2.0
PRODID:SchoolNow
CALSCALE:GREGORIAN
BEGIN:VEVENT
UID:49c2f89e-9593-11f0-b8f0-0affc363eacf
DTSTAMP:20251216T154557Z
SUMMARY:Volleyball (H) vs Eunice - Kelly
URL;VALUE=URI:https://www.lpssonline.com/schools/acadiana/calendar/8644164/
 volleyball-h-vs-eunice-kelly
DTSTART:20251014T223000Z
DTEND:20251015T010000Z
END:VEVENT
END:VCALENDAR
