BEGIN:VCALENDAR
VERSION:2.0
PRODID:SchoolNow
CALSCALE:GREGORIAN
BEGIN:VEVENT
UID:49c2f970-9593-11f0-8eb6-0affc363eacf
DTSTAMP:20251216T154557Z
SUMMARY:Volleyball (H) vs Sulphur (Himel)
URL;VALUE=URI:https://www.lpssonline.com/schools/acadiana/calendar/8644165/
 volleyball-h-vs-sulphur-himel
DTSTART:20251016T210000Z
DTEND:20251017T010000Z
END:VEVENT
END:VCALENDAR
