BEGIN:VCALENDAR
VERSION:2.0
PRODID:SchoolNow
CALSCALE:GREGORIAN
BEGIN:VEVENT
UID:49c2faa6-9593-11f0-9435-0affc363eacf
DTSTAMP:20251216T154557Z
SUMMARY:Volleyball @ Lafayette High
URL;VALUE=URI:https://www.lpssonline.com/schools/acadiana/calendar/8644166/
 volleyball-lafayette-high
DTSTART:20251021T223000Z
DTEND:20251022T003000Z
END:VEVENT
END:VCALENDAR
