BEGIN:VCALENDAR
VERSION:2.0
PRODID:SchoolNow
CALSCALE:GREGORIAN
BEGIN:VEVENT
UID:49c2fb82-9593-11f0-ad00-0affc363eacf
DTSTAMP:20251216T154556Z
SUMMARY:Volleyball @ NISH
URL;VALUE=URI:https://www.lpssonline.com/schools/acadiana/calendar/8644167/
 volleyball-nish
DTSTART:20251023T223000Z
DTEND:20251024T003000Z
END:VEVENT
END:VCALENDAR
