BEGIN:VCALENDAR
VERSION:2.0
PRODID:SchoolNow
CALSCALE:GREGORIAN
BEGIN:VEVENT
UID:49c2fc90-9593-11f0-b307-0affc363eacf
DTSTAMP:20251216T154556Z
SUMMARY:Volleyball @ Port Barre
URL;VALUE=URI:https://www.lpssonline.com/schools/acadiana/calendar/8644168/
 volleyball-port-barre
DTSTART:20251027T203000Z
DTEND:20251028T003000Z
END:VEVENT
END:VCALENDAR
