BEGIN:VCALENDAR
VERSION:2.0
PRODID:SchoolNow
CALSCALE:GREGORIAN
BEGIN:VEVENT
UID:49c2fd6c-9593-11f0-ae53-0affc363eacf
DTSTAMP:20251216T154557Z
SUMMARY:Volleyball @ Carencro
URL;VALUE=URI:https://www.lpssonline.com/schools/acadiana/calendar/8644169/
 volleyball-carencro
DTSTART:20251028T210000Z
DTEND:20251029T000000Z
END:VEVENT
END:VCALENDAR
