BEGIN:VCALENDAR
VERSION:2.0
PRODID:SchoolNow
CALSCALE:GREGORIAN
BEGIN:VEVENT
UID:49c2fe3e-9593-11f0-ade8-0affc363eacf
DTSTAMP:20251216T154557Z
SUMMARY:Volleyball (H) vs Westminster (St. Pierre)
URL;VALUE=URI:https://www.lpssonline.com/schools/acadiana/calendar/8644170/
 volleyball-h-vs-westminster-st-pierre
DTSTART:20251029T220000Z
DTEND:20251030T010000Z
END:VEVENT
END:VCALENDAR
