BEGIN:VCALENDAR
VERSION:2.0
PRODID:SchoolNow
CALSCALE:GREGORIAN
BEGIN:VEVENT
UID:49c2ff1a-9593-11f0-8ea5-0affc363eacf
DTSTAMP:20251216T154557Z
SUMMARY:BETA Induction in the Boys Gym (Himel)
URL;VALUE=URI:https://www.lpssonline.com/schools/acadiana/calendar/8644171/
 beta-induction-in-the-boys-gym-himel
DTSTART:20260318T230000Z
DTEND:20260319T000000Z
END:VEVENT
END:VCALENDAR
