BEGIN:VCALENDAR
VERSION:2.0
PRODID:SchoolNow
CALSCALE:GREGORIAN
BEGIN:VEVENT
UID:2beac5e8-97f7-11f0-b6c0-025dfe575a6b
DTSTAMP:20251216T154557Z
SUMMARY:Canceled- Dance Team Halloween Movie Night Fundraiser (Himel()
URL;VALUE=URI:https://www.lpssonline.com/schools/acadiana/calendar/8653645/
 canceled-dance-team-halloween-movie-night-fundraiser-himel
DTSTART:20251018T233000Z
DTEND:20251019T020000Z
END:VEVENT
END:VCALENDAR
