BEGIN:VCALENDAR
VERSION:2.0
PRODID:SchoolNow
CALSCALE:GREGORIAN
BEGIN:VEVENT
UID:0d5390dc-9a28-11f0-af8f-0a58a9feac02
DTSTAMP:20251216T154557Z
SUMMARY:AoB Atlanta\, GA  Fieldtrip Parent Meeting
URL;VALUE=URI:https://www.lpssonline.com/schools/acadiana/calendar/8663205/
 aob-atlanta-ga-fieldtrip-parent-meeting
DTSTART:20251009T230000Z
DTEND:20251010T000000Z
END:VEVENT
END:VCALENDAR
