BEGIN:VCALENDAR
VERSION:2.0
PRODID:SchoolNow
CALSCALE:GREGORIAN
BEGIN:VEVENT
UID:0d53947e-9a28-11f0-bf91-0a58a9feac02
DTSTAMP:20251216T154557Z
SUMMARY:AoB Junior Internship Mandatory Parent Meeting
URL;VALUE=URI:https://www.lpssonline.com/schools/acadiana/calendar/8663206/
 aob-junior-internship-mandatory-parent-meeting
DTSTART:20251009T223000Z
DTEND:20251009T230000Z
END:VEVENT
END:VCALENDAR
