BEGIN:VCALENDAR
VERSION:2.0
PRODID:SchoolNow
CALSCALE:GREGORIAN
BEGIN:VEVENT
UID:fe77be8a-9b26-11f0-816a-0affe194c4df
DTSTAMP:20251216T154557Z
SUMMARY:DECA Meeting
URL;VALUE=URI:https://www.lpssonline.com/schools/acadiana/calendar/8668537/
 deca-meeting
DTSTART:20250930T194500Z
DTEND:20250930T203000Z
END:VEVENT
END:VCALENDAR
