BEGIN:VCALENDAR
VERSION:2.0
PRODID:SchoolNow
CALSCALE:GREGORIAN
BEGIN:VEVENT
UID:e3c5beba-9d57-11f0-b762-0a58a9feac02
DTSTAMP:20251216T154557Z
SUMMARY:AHS TEXAS Roadhouse Dine and Donate Night
URL;VALUE=URI:https://www.lpssonline.com/schools/acadiana/calendar/8676997/
 ahs-texas-roadhouse-dine-and-donate-night
DTSTART;VALUE=DATE:20251008
DTEND;VALUE=DATE:20251009
END:VEVENT
END:VCALENDAR
