BEGIN:VCALENDAR
VERSION:2.0
PRODID:SchoolNow
CALSCALE:GREGORIAN
BEGIN:VEVENT
UID:e058198e-9d8a-11f0-b454-0affcbf89a2f
DTSTAMP:20251216T154557Z
SUMMARY:National Honor Society Induction
LOCATION:Cafeteria
URL;VALUE=URI:https://www.lpssonline.com/schools/acadiana/calendar/8678198/
 national-honor-society-induction
DTSTART:20251113T000000Z
DTEND:20251113T010000Z
END:VEVENT
END:VCALENDAR
