BEGIN:VCALENDAR
VERSION:2.0
PRODID:SchoolNow
CALSCALE:GREGORIAN
BEGIN:VEVENT
UID:c565c008-9fbb-11f0-88d6-0a58a9feac02
DTSTAMP:20251216T154557Z
SUMMARY:EF Tour Meeting- Ms. Foote
URL;VALUE=URI:https://www.lpssonline.com/schools/acadiana/calendar/8687865/
 ef-tour-meeting-ms-foote
DTSTART:20251014T230000Z
DTEND:20251015T000000Z
END:VEVENT
END:VCALENDAR
