BEGIN:VCALENDAR
VERSION:2.0
PRODID:SchoolNow
CALSCALE:GREGORIAN
BEGIN:VEVENT
UID:c565c396-9fbb-11f0-86db-0a58a9feac02
DTSTAMP:20251216T154557Z
SUMMARY:Dance Team Christmas Market (Davenport and Himel)
URL;VALUE=URI:https://www.lpssonline.com/schools/acadiana/calendar/8687866/
 dance-team-christmas-market-davenport-and-himel
DTSTART:20251101T140000Z
DTEND:20251101T190000Z
END:VEVENT
END:VCALENDAR
