BEGIN:VCALENDAR
VERSION:2.0
PRODID:SchoolNow
CALSCALE:GREGORIAN
BEGIN:VEVENT
UID:c6b515e8-9fee-11f0-8259-0affde99d877
DTSTAMP:20251216T154557Z
SUMMARY:Wrestling Meeting (McQuain)
URL;VALUE=URI:https://www.lpssonline.com/schools/acadiana/calendar/8689176/
 wrestling-meeting-mcquain
DTSTART:20251006T220000Z
DTEND:20251006T230000Z
END:VEVENT
END:VCALENDAR
