BEGIN:VCALENDAR
VERSION:2.0
PRODID:SchoolNow
CALSCALE:GREGORIAN
BEGIN:VEVENT
UID:b810bcd8-a087-11f0-9d16-0a58a9feac02
DTSTAMP:20251216T154556Z
SUMMARY:AoB Board Meeting
URL;VALUE=URI:https://www.lpssonline.com/schools/acadiana/calendar/8691643/
 aob-board-meeting
DTSTART:20251022T170000Z
DTEND:20251022T180000Z
END:VEVENT
END:VCALENDAR
