BEGIN:VCALENDAR
VERSION:2.0
PRODID:SchoolNow
CALSCALE:GREGORIAN
BEGIN:VEVENT
UID:a4db1a70-a21f-11f0-af16-02a77c8ed3f9
DTSTAMP:20251216T154557Z
SUMMARY:Homecoming Parade
URL;VALUE=URI:https://www.lpssonline.com/schools/acadiana/calendar/8697008/
 homecoming-parade
DTSTART:20251009T230000Z
DTEND:20251010T003000Z
END:VEVENT
END:VCALENDAR
