BEGIN:VCALENDAR
VERSION:2.0
PRODID:SchoolNow
CALSCALE:GREGORIAN
BEGIN:VEVENT
UID:9af83052-a2eb-11f0-9498-0a58a9feac02
DTSTAMP:20251216T154557Z
SUMMARY:Homecoming Dance
LOCATION:David Thibodeaux STEM
URL;VALUE=URI:https://www.lpssonline.com/schools/acadiana/calendar/8700043/
 homecoming-dance
DTSTART:20251012T000000Z
DTEND:20251012T030000Z
END:VEVENT
END:VCALENDAR
