BEGIN:VCALENDAR
VERSION:2.0
PRODID:SchoolNow
CALSCALE:GREGORIAN
BEGIN:VEVENT
UID:90160c28-a3b7-11f0-b6a3-0a58a9feac02
DTSTAMP:20251216T154557Z
SUMMARY:ACT Testing
URL;VALUE=URI:https://www.lpssonline.com/schools/acadiana/calendar/8703187/
 act-testing
DTSTART:20251018T120000Z
DTEND:20251018T190000Z
END:VEVENT
END:VCALENDAR
