BEGIN:VCALENDAR
VERSION:2.0
PRODID:SchoolNow
CALSCALE:GREGORIAN
BEGIN:VEVENT
UID:90160fd4-a3b7-11f0-92fe-0a58a9feac02
DTSTAMP:20251216T154557Z
SUMMARY:ACT Testing
URL;VALUE=URI:https://www.lpssonline.com/schools/acadiana/calendar/8703188/
 act-testing
DTSTART:20251213T130000Z
DTEND:20251213T200000Z
END:VEVENT
END:VCALENDAR
